BEGIN:VCALENDAR
VERSION:2.0
PRODID:EVENTFROG//EVENT//ICAL
BEGIN:VEVENT
UID:20260422T100905Z-7451722669152597656@eventfrog.at
DTSTAMP:20260422T100905Z
DTSTART:20260510T150000Z
SUMMARY:On the Shoulders of Giants – Klangwelten grosser Komponisten
DESCRIPTION:Die Universal Brass Band Wil präsentiert ihr Frühlingskonzert mit Highlights wie «On the Shoulders of Giants», «Fire in the Blood» und dem virtuosen Cornet-Solo «Whirlwind».\n\nhttps://eventfrog.at/de/p/konzerte/blasmusik/on-the-shoulders-of-giants-klangwelten-grosser-komponisten-7451722669152597656.html
LOCATION:Tonhalle Wil
GEO:47.465606;9.049972
URL:https://eventfrog.at/de/p/konzerte/blasmusik/on-the-shoulders-of-giants-klangwelten-grosser-komponisten-7451722669152597656.html
END:VEVENT
END:VCALENDAR