BEGIN:VCALENDAR
VERSION:2.0
PRODID:EVENTFROG//EVENT//ICAL
BEGIN:VEVENT
UID:20260421T094820Z-7451704172938843670@eventfrog.at
DTSTAMP:20260421T094820Z
DTSTART:20260613T200000Z
DTEND:20260614T010000Z
SUMMARY:Charts-Party Nachtzug Club Aarau
DESCRIPTION:Party im Club-Ambiente mit den grössten Hits der Bravo-Hits-CDs. Im Nachtzug Club in Aarau.\n\nhttps://eventfrog.at/de/p/partys/disco/charts-party-nachtzug-club-aarau-7451704172938843670.html
LOCATION:NACHTZUG CLUB
GEO:47.391981;8.050957
URL:https://eventfrog.at/de/p/partys/disco/charts-party-nachtzug-club-aarau-7451704172938843670.html
END:VEVENT
END:VCALENDAR