BEGIN:VCALENDAR
VERSION:2.0
PRODID:EVENTFROG//EVENT//ICAL
BEGIN:VEVENT
UID:20260421T094820Z-7451703102619566738@eventfrog.at
DTSTAMP:20260421T094820Z
DTSTART:20260530T200000Z
DTEND:20260531T010000Z
SUMMARY:Charts-Party Nachtzug Club Aarau
DESCRIPTION:Party im Club-Ambiente mit den grössten Hits der Bravo-Hits-CDs. Im Nachtzug Club in Aarau.\n\nhttps://eventfrog.at/de/p/partys/disco/charts-party-nachtzug-club-aarau-7451703102619566738.html
LOCATION:NACHTZUG CLUB
GEO:47.391981;8.050957
URL:https://eventfrog.at/de/p/partys/disco/charts-party-nachtzug-club-aarau-7451703102619566738.html
END:VEVENT
END:VCALENDAR