BEGIN:VCALENDAR
VERSION:2.0
PRODID:EVENTFROG//EVENT//ICAL
BEGIN:VEVENT
UID:20260420T044625Z-7451692374319749424@eventfrog.at
DTSTAMP:20260420T044625Z
DTSTART:20260425T160000Z
DTEND:20260425T180000Z
SUMMARY:Gar nicht so einfach mit der Liebe (Frauenmärchen I)
DESCRIPTION:Claudia Forster und Ruth Martina Mendler erzählen Märchen mit starken Frauenfiguren ab 17.45 Uhr, Eintritt frei, Spenden willkommen. Anmeldung: wege.geschichten@gmail.com.\n\nhttps://eventfrog.at/de/p/theater-buehne/lesung/gar-nicht-so-einfach-mit-der-liebe-frauenmaerchen-i-7451692374319749424.html
LOCATION:Danklsalon - Sendlinger Freiraum
GEO:48.119727;11.546797
URL:https://eventfrog.at/de/p/theater-buehne/lesung/gar-nicht-so-einfach-mit-der-liebe-frauenmaerchen-i-7451692374319749424.html
END:VEVENT
END:VCALENDAR