BEGIN:VCALENDAR
VERSION:2.0
PRODID:EVENTFROG//EVENT//ICAL
BEGIN:VEVENT
UID:20260423T080123Z-7451685222620359735@eventfrog.at
DTSTAMP:20260423T080123Z
DTSTART:20261107T170000Z
DTEND:20261107T210000Z
SUMMARY:Sherlock darf nicht sterben – Krimidinner Bremen
DESCRIPTION:Am 7.11.2026 erlebt man im Bremer Ratskeller ein interaktives Krimi-Dinner mit Sherlock-Holmes-Plot und Menügenuss.\n\nhttps://eventfrog.at/de/p/theater-buehne/theater/sherlock-darf-nicht-sterben-krimidinner-bremen-7451685222620359735.html
LOCATION:Ratskeller Bremen
GEO:53.075315;8.805399
URL:https://eventfrog.at/de/p/theater-buehne/theater/sherlock-darf-nicht-sterben-krimidinner-bremen-7451685222620359735.html
END:VEVENT
END:VCALENDAR