BEGIN:VCALENDAR
VERSION:2.0
PRODID:EVENTFROG//EVENT//ICAL
BEGIN:VEVENT
UID:20260423T075639Z-7451675822199440781@eventfrog.at
DTSTAMP:20260423T075639Z
DTSTART:20261011T160000Z
DTEND:20261011T200000Z
SUMMARY:Adel vergiftet – Krimidinner Bremen
DESCRIPTION:Am 11. Oktober erwartet Sie im Bremer Ratskeller ein interaktives Krimi-Dinner mit spannender Handlung und exzellentem Menü.\n\nhttps://eventfrog.at/de/p/theater-buehne/theater/adel-vergiftet-krimidinner-bremen-7451675822199440781.html
LOCATION:Ratskeller Bremen
GEO:53.075315;8.805399
URL:https://eventfrog.at/de/p/theater-buehne/theater/adel-vergiftet-krimidinner-bremen-7451675822199440781.html
END:VEVENT
END:VCALENDAR