BEGIN:VCALENDAR
VERSION:2.0
PRODID:EVENTFROG//EVENT//ICAL
BEGIN:VEVENT
UID:20260420T044630Z-7451668328144233901@eventfrog.at
DTSTAMP:20260420T044630Z
DTSTART:20260509T170000Z
SUMMARY:"danza danza!"
DESCRIPTION:Tänzerische Musik zum Muttertag\n\nhttps://eventfrog.at/de/p/konzerte/weitere-musikrichtungen/danza-danza-7451668328144233901.html
LOCATION:Evang. Kirche Herisau
GEO:47.385869;9.278678
URL:https://eventfrog.at/de/p/konzerte/weitere-musikrichtungen/danza-danza-7451668328144233901.html
END:VEVENT
END:VCALENDAR