BEGIN:VCALENDAR
VERSION:2.0
PRODID:EVENTFROG//EVENT//ICAL
BEGIN:VEVENT
UID:20260424T105045Z-7451666145654894247@eventfrog.at
DTSTAMP:20260424T105045Z
DTSTART:20260516T110000Z
DTEND:20260516T150000Z
SUMMARY:Öffentlicher Fahrnachmittag
DESCRIPTION:Am 16. Mai zeigt der Modelleisenbahn-Club Wittenbach-Kronbühl vielfältige Anlagen an einem öffentlichen Fahrnachmittag.\n\nhttps://eventfrog.at/de/p/freizeit-ausfluege/sonstige-veranstaltungen/oeffentlicher-fahrnachmittag-7451666145654894247.html
LOCATION:Modelleisenbahn-Club Wittenbach-Kronbühl (MCWK)
GEO:47.464675;9.393698
URL:https://eventfrog.at/de/p/freizeit-ausfluege/sonstige-veranstaltungen/oeffentlicher-fahrnachmittag-7451666145654894247.html
END:VEVENT
END:VCALENDAR