BEGIN:VCALENDAR
VERSION:2.0
PRODID:EVENTFROG//EVENT//ICAL
BEGIN:VEVENT
UID:20260423T034457Z-7451663286561471319@eventfrog.at
DTSTAMP:20260423T034457Z
DTSTART:20260426T060000Z
DTEND:20260426T180000Z
SUMMARY:City Trip to Lugano
DESCRIPTION:Join a day trip to Lugano on 26.04 with a city tour and leisure time by the lake; train leaves at 8:00, price 18 CHF.\n\nhttps://eventfrog.at/en/p/miscellaneous/city-trip-to-lugano-7451663286561471319.html
LOCATION:St. Gallen, Bahnhof
GEO:47.423010;9.370770
URL:https://eventfrog.at/en/p/miscellaneous/city-trip-to-lugano-7451663286561471319.html
END:VEVENT
END:VCALENDAR