BEGIN:VCALENDAR
VERSION:2.0
PRODID:EVENTFROG//EVENT//ICAL
BEGIN:VEVENT
UID:20260422T100905Z-7451645896947708204@eventfrog.at
DTSTAMP:20260422T100905Z
DTSTART:20260424T163000Z
SUMMARY:Pub Crawl Spring Edition
DESCRIPTION:Geführte Bar-Tour mit Locationwechsel ab 18:30 und Afterparty ab 23:00 im Trischli in St. Gallen.\n\nhttps://eventfrog.at/de/p/diverses/pub-crawl-spring-edition-7451645896947708204.html
LOCATION:Rosenbergstrasse 59
GEO:47.423285;9.367650
URL:https://eventfrog.at/de/p/diverses/pub-crawl-spring-edition-7451645896947708204.html
END:VEVENT
END:VCALENDAR