BEGIN:VCALENDAR
VERSION:2.0
PRODID:EVENTFROG//EVENT//ICAL
BEGIN:VEVENT
UID:20260424T084119Z-7451636902262766450@eventfrog.at
DTSTAMP:20260424T084119Z
DTSTART:20260628T073000Z
DTEND:20260628T084500Z
SUMMARY:Lu Jong am Sonntag - Meditation in Bewegung
DESCRIPTION:Lu Jong verbindet sanfte Bewegungen und Atmung zur Förderung von Wohlbefinden und innerer Balance für alle Altersgruppen.\n\nhttps://eventfrog.at/de/p/gesundheit-spiritualitaet/gesundheit-wohlbefinden/lu-jong-am-sonntag-meditation-in-bewegung-7451636902262766450.html
LOCATION:yoga grenzenlos
GEO:47.654079;9.173242
URL:https://eventfrog.at/de/p/gesundheit-spiritualitaet/gesundheit-wohlbefinden/lu-jong-am-sonntag-meditation-in-bewegung-7451636902262766450.html
END:VEVENT
END:VCALENDAR