BEGIN:VCALENDAR
VERSION:2.0
PRODID:EVENTFROG//EVENT//ICAL
BEGIN:VEVENT
UID:20260419T182504Z-7451626164471221868@eventfrog.at
DTSTAMP:20260419T182504Z
DTSTART:20260516T173000Z
DTEND:20260516T203000Z
SUMMARY:Parfüm Workshop Date Night
DESCRIPTION:Bei einem Event mischen Paare gemeinsam ein einzigartiges 30ml-Parfüm für den Partner und geniessen Apéro sowie Duft-Infos.\n\nhttps://eventfrog.at/de/p/dating/sonstige-veranstaltungen/parfuem-workshop-date-night-7451626164471221868.html
LOCATION:Eigenesparfum
GEO:47.468646;8.320719
URL:https://eventfrog.at/de/p/dating/sonstige-veranstaltungen/parfuem-workshop-date-night-7451626164471221868.html
END:VEVENT
END:VCALENDAR