BEGIN:VCALENDAR
VERSION:2.0
PRODID:EVENTFROG//EVENT//ICAL
BEGIN:VEVENT
UID:20260419T215345Z-7451617811376397965@eventfrog.at
DTSTAMP:20260419T215345Z
DTSTART:20260516T210000Z
DTEND:20260517T030000Z
SUMMARY:FLOW STATE
DESCRIPTION:Soirée immersive avec NEYA, HEEZY et 2AD en afro-électronique sur le dancefloor de L'Ambassade à Sion, le 16 mai de 23h à 5h.\n\nhttps://eventfrog.at/fr/p/soirees-fetes/dancehall/flow-state-7451617811376397965.html
LOCATION:L'Ambassade
GEO:46.222584;7.351230
URL:https://eventfrog.at/fr/p/soirees-fetes/dancehall/flow-state-7451617811376397965.html
END:VEVENT
END:VCALENDAR