BEGIN:VCALENDAR
VERSION:2.0
PRODID:EVENTFROG//EVENT//ICAL
BEGIN:VEVENT
UID:20260420T004158Z-7451606893703788909@eventfrog.at
DTSTAMP:20260420T004158Z
DTSTART:20260702T170000Z
DTEND:20260702T193000Z
SUMMARY:Begegnungsabend
DESCRIPTION:Ab 1.5.26 lädt 'Hand und Herz' monatlich Frauen zu einem kreativen Austauschabend mit gemeinsamen Projekten ohne Druck ein.\n\nhttps://eventfrog.at/de/p/kurse-seminare/freizeit-hobby/begegnungsabend-7451606893703788909.html
LOCATION:Crea Party
GEO:47.499998;7.720026
URL:https://eventfrog.at/de/p/kurse-seminare/freizeit-hobby/begegnungsabend-7451606893703788909.html
END:VEVENT
END:VCALENDAR