BEGIN:VCALENDAR
VERSION:2.0
PRODID:EVENTFROG//EVENT//ICAL
BEGIN:VEVENT
UID:20260421T094820Z-7451600321975961412@eventfrog.at
DTSTAMP:20260421T094820Z
DTSTART:20260430T130000Z
DTEND:20260430T150000Z
SUMMARY:Vortrag: OEKO isch gsund
DESCRIPTION:"OEKO isch gsund" - Mediziin und Umwelt stehen in engem Zusammenhang für uns alle\n\nhttps://eventfrog.at/de/p/fuehrungen-vortraege/vortrag/vortrag-oeko-isch-gsund-7451600321975961412.html
LOCATION:Gemeinschaftszentrum Telli
GEO:47.398840;8.057790
URL:https://eventfrog.at/de/p/fuehrungen-vortraege/vortrag/vortrag-oeko-isch-gsund-7451600321975961412.html
END:VEVENT
END:VCALENDAR