BEGIN:VCALENDAR
VERSION:2.0
PRODID:EVENTFROG//EVENT//ICAL
BEGIN:VEVENT
UID:20260424T054627Z-7451594662031177159@eventfrog.at
DTSTAMP:20260424T054627Z
DTSTART:20260501T090000Z
DTEND:20260501T094500Z
SUMMARY:Plaza. Ein partizipative Performance von Li Binyuan
DESCRIPTION:Li Binyuan lädt am 24./25.1. zu einer Klang-Performance mit Augenbinde im Humboldt Forum, Thema: Verbundenheit durch persönliche Laute.\n\nhttps://eventfrog.at/de/p/theater-buehne/experimentelles-theater/plaza-ein-partizipative-performance-von-li-binyuan-7451594662031177159.html
LOCATION:Humboldt Forum
GEO:52.517275;13.401640
URL:https://eventfrog.at/de/p/theater-buehne/experimentelles-theater/plaza-ein-partizipative-performance-von-li-binyuan-7451594662031177159.html
END:VEVENT
END:VCALENDAR