BEGIN:VCALENDAR
VERSION:2.0
PRODID:EVENTFROG//EVENT//ICAL
BEGIN:VEVENT
UID:20260419T163142Z-7451576064478822153@eventfrog.at
DTSTAMP:20260419T163142Z
DTSTART:20260917T120000Z
DTEND:20260917T140000Z
SUMMARY:"Darf ich bitten" Tanznachmittag für alle
DESCRIPTION:Alle sind willkommen zum ungezwungenen Tanzen, Musikhören und Kaffeegenuss mit fachkundiger Unterstützung.\n\nhttps://eventfrog.at/de/p/partys/ball-gala/darf-ich-bitten-tanznachmittag-fuer-alle-7451576064478822153.html
LOCATION:Freizeitanlage Kanzleistrasse
GEO:47.484628;8.763770
URL:https://eventfrog.at/de/p/partys/ball-gala/darf-ich-bitten-tanznachmittag-fuer-alle-7451576064478822153.html
END:VEVENT
END:VCALENDAR