BEGIN:VCALENDAR
VERSION:2.0
PRODID:EVENTFROG//EVENT//ICAL
BEGIN:VEVENT
UID:20260420T055014Z-7451564675945239908@eventfrog.at
DTSTAMP:20260420T055014Z
DTSTART:20260507T073000Z
DTEND:20260507T160000Z
SUMMARY:Frühlingsausflug Seniorentreff Dagmersellen
DESCRIPTION:Am 7. Mai startet um 9.30 Uhr der Tagesausflug mit Car, Gondelbahn, 3-Gang-Menü und Unterhaltung, Anmeldung bis 1. Mai.\n\nhttps://eventfrog.at/de/p/freizeit-ausfluege/ausflug/fruehlingsausflug-seniorentreff-dagmersellen-7451564675945239908.html
LOCATION:Bergrestaurant Eigerblick Marbachegg
GEO:46.835014;7.906086
URL:https://eventfrog.at/de/p/freizeit-ausfluege/ausflug/fruehlingsausflug-seniorentreff-dagmersellen-7451564675945239908.html
END:VEVENT
END:VCALENDAR