BEGIN:VCALENDAR
VERSION:2.0
PRODID:EVENTFROG//EVENT//ICAL
BEGIN:VEVENT
UID:20260419T145658Z-7451551494220819824@eventfrog.at
DTSTAMP:20260419T145658Z
DTSTART:20260508T180000Z
DTEND:20260508T200000Z
SUMMARY:Tschiibii & The Kinks
DESCRIPTION:Museums-Gründer Tschiibii, grosser Fan und Kenner, bringt uns die «bösen Buben des Rock'n'Roll» näher: The Kinks.\n\nhttps://eventfrog.at/de/p/fuehrungen-vortraege/vortrag/tschiibii-the-kinks-7451551494220819824.html
LOCATION:Rock-& Pop-Museum
GEO:47.473761;9.235783
URL:https://eventfrog.at/de/p/fuehrungen-vortraege/vortrag/tschiibii-the-kinks-7451551494220819824.html
END:VEVENT
END:VCALENDAR