BEGIN:VCALENDAR
VERSION:2.0
PRODID:EVENTFROG//EVENT//ICAL
BEGIN:VEVENT
UID:20260424T090234Z-7451549991422660748@eventfrog.at
DTSTAMP:20260424T090234Z
DTSTART:20260516T210000Z
DTEND:20260517T040000Z
SUMMARY:#HRDR38 - Techno & Cruising
DESCRIPTION:#HRDR is a kinky party in Switzerland. We play pure techno and we provide playrooms for whatever you fancy to do. As long as it happens in consent. \n\nhttps://eventfrog.at/de/p/partys/house-techno/hrdr38-techno-cruising-7451549991422660748.html
LOCATION:Komplex Klub
GEO:47.277273;8.913513
URL:https://eventfrog.at/de/p/partys/house-techno/hrdr38-techno-cruising-7451549991422660748.html
END:VEVENT
END:VCALENDAR