BEGIN:VCALENDAR
VERSION:2.0
PRODID:EVENTFROG//EVENT//ICAL
BEGIN:VEVENT
UID:20260423T064109Z-7451516894035607826@eventfrog.at
DTSTAMP:20260423T064109Z
DTSTART:20260424T130000Z
DTEND:20260426T160000Z
SUMMARY:Freundschaftsfliegen
DESCRIPTION:Die LSG Braunfels veranstaltet vom 24. bis 26. April 2026 ein Freundschaftsfliegen mit Modellpiloten und kulinarischer Verpflegung.\n\nhttps://eventfrog.at/de/p/freizeit-ausfluege/sonstige-veranstaltungen/freundschaftsfliegen-7451516894035607826.html
LOCATION:Modell- freundschaftsfliegen
GEO:50.521111;8.393656
URL:https://eventfrog.at/de/p/freizeit-ausfluege/sonstige-veranstaltungen/freundschaftsfliegen-7451516894035607826.html
END:VEVENT
END:VCALENDAR