BEGIN:VCALENDAR
VERSION:2.0
PRODID:EVENTFROG//EVENT//ICAL
BEGIN:VEVENT
UID:20260422T192632Z-7451500856451540194@eventfrog.at
DTSTAMP:20260422T192632Z
DTSTART:20260419T090000Z
DTEND:20260419T160000Z
SUMMARY:Hasper Allerlei - Shopping am Sonntag
DESCRIPTION:Lernen Sie von 11 bis 18 Uhr Neues zu Tiernahrung, Lifestyle und Gesundheit bei unserem Vertriebs- und Shoppingevent kennen.\n\nhttps://eventfrog.at/de/p/maerkte/sonstige-maerkte/hasper-allerlei-shopping-am-sonntag-7451500856451540194.html
LOCATION:Hasper Tor Hagen
GEO:51.345696;7.425311
URL:https://eventfrog.at/de/p/maerkte/sonstige-maerkte/hasper-allerlei-shopping-am-sonntag-7451500856451540194.html
END:VEVENT
END:VCALENDAR