BEGIN:VCALENDAR
VERSION:2.0
PRODID:EVENTFROG//EVENT//ICAL
BEGIN:VEVENT
UID:20260420T050604Z-7451399119946444819@eventfrog.at
DTSTAMP:20260420T050604Z
DTSTART:20260523T180000Z
DTEND:20260524T020000Z
SUMMARY:Spring Break
DESCRIPTION:Am 23.5. feiert die Hochschule Wildau mit DJs, Bullriding und zwei Floors von 20–4 Uhr in Halle 14 den Frühlingsauftakt.\n\nhttps://eventfrog.at/de/p/partys/studentenparty/spring-break-7451399119946444819.html
LOCATION:Halle 14, TH Wildau
GEO:52.318931;13.628902
URL:https://eventfrog.at/de/p/partys/studentenparty/spring-break-7451399119946444819.html
END:VEVENT
END:VCALENDAR