BEGIN:VCALENDAR
VERSION:2.0
PRODID:EVENTFROG//EVENT//ICAL
BEGIN:VEVENT
UID:20260424T083305Z-7451392945918360318@eventfrog.at
DTSTAMP:20260424T083305Z
DTSTART:20260527T130000Z
DTEND:20260527T133000Z
SUMMARY:Schweizer Vorlese Tag
DESCRIPTION:Schweizer Vorlese Tag\n\nhttps://eventfrog.at/de/p/theater-buehne/schweizer-vorlese-tag-7451392945918360318.html
LOCATION:Bücherladen Amriswil
GEO:47.545491;9.300039
URL:https://eventfrog.at/de/p/theater-buehne/schweizer-vorlese-tag-7451392945918360318.html
END:VEVENT
END:VCALENDAR