BEGIN:VCALENDAR
VERSION:2.0
PRODID:EVENTFROG//EVENT//ICAL
BEGIN:VEVENT
UID:20260423T044702Z-7451392939169724964@eventfrog.at
DTSTAMP:20260423T044702Z
DTSTART:20260426T120000Z
DTEND:20260426T133000Z
SUMMARY:VollGlas voraus!
DESCRIPTION:VollGlas voraus!\n\nhttps://eventfrog.at/de/p/kunst-ausstellungen/vollglas-voraus-7451392939169724964.html
LOCATION:Historisches Museum Thurgau
GEO:47.555177;8.896799
URL:https://eventfrog.at/de/p/kunst-ausstellungen/vollglas-voraus-7451392939169724964.html
END:VEVENT
END:VCALENDAR