BEGIN:VCALENDAR
VERSION:2.0
PRODID:EVENTFROG//EVENT//ICAL
BEGIN:VEVENT
UID:20260424T192315Z-7451392142704934925@eventfrog.at
DTSTAMP:20260424T192315Z
DTSTART:20260508T191500Z
SUMMARY:Divine Comedy
DESCRIPTION:Verspielte Satire auf die Absurdität iranischer Filmzensur.\n\nhttps://eventfrog.at/de/p/freizeit-ausfluege/divine-comedy-7451392142704934925.html
LOCATION:Kinok – Cinema in der Lokremise
GEO:47.421287;9.366104
URL:https://eventfrog.at/de/p/freizeit-ausfluege/divine-comedy-7451392142704934925.html
END:VEVENT
END:VCALENDAR