BEGIN:VCALENDAR
VERSION:2.0
PRODID:EVENTFROG//EVENT//ICAL
BEGIN:VEVENT
UID:20260419T145827Z-7451392141266288490@eventfrog.at
DTSTAMP:20260419T145827Z
DTSTART:20260509T110000Z
SUMMARY:Siri Hustvedt – Dance Around the Self
DESCRIPTION:Bewegendes Porträt der grossen Autorin und Essayistin.\n\nhttps://eventfrog.at/de/p/freizeit-ausfluege/siri-hustvedt-dance-around-the-self-7451392141266288490.html
LOCATION:Kinok – Cinema in der Lokremise
GEO:47.421287;9.366104
URL:https://eventfrog.at/de/p/freizeit-ausfluege/siri-hustvedt-dance-around-the-self-7451392141266288490.html
END:VEVENT
END:VCALENDAR