BEGIN:VCALENDAR
VERSION:2.0
PRODID:EVENTFROG//EVENT//ICAL
BEGIN:VEVENT
UID:20260425T164512Z-7451391162034706107@eventfrog.at
DTSTAMP:20260425T164512Z
DTSTART:20260509T120000Z
SUMMARY:Buskers Vaduz
DESCRIPTION:Festival der Strassenkunst.\n\nhttps://eventfrog.at/de/p/theater-buehne/buskers-vaduz-7451391162034706107.html
LOCATION:Schlösslekeller
GEO:47.129016;9.523827
URL:https://eventfrog.at/de/p/theater-buehne/buskers-vaduz-7451391162034706107.html
END:VEVENT
END:VCALENDAR