BEGIN:VCALENDAR
VERSION:2.0
PRODID:EVENTFROG//EVENT//ICAL
BEGIN:VEVENT
UID:20260419T132051Z-7451389996215338591@eventfrog.at
DTSTAMP:20260419T132051Z
DTSTART:20260524T140000Z
SUMMARY:Im Spannungsfeld der Gegensätze
DESCRIPTION:Im Spannungsfeld der Gegensätze\n\nhttps://eventfrog.at/de/p/kunst-ausstellungen/im-spannungsfeld-der-gegensaetze-7451389996215338591.html
LOCATION:Villa Claudia
GEO:47.239641;9.600151
URL:https://eventfrog.at/de/p/kunst-ausstellungen/im-spannungsfeld-der-gegensaetze-7451389996215338591.html
END:VEVENT
END:VCALENDAR