BEGIN:VCALENDAR
VERSION:2.0
PRODID:EVENTFROG//EVENT//ICAL
BEGIN:VEVENT
UID:20260424T214359Z-7451389861771086993@eventfrog.at
DTSTAMP:20260424T214359Z
DTSTART:20260604T180000Z
SUMMARY:Chrissi Sokoll
DESCRIPTION:Chrissi Sokoll\n\nhttps://eventfrog.at/de/p/theater-buehne/chrissi-sokoll-7451389861771086993.html
LOCATION:Casinotheater
GEO:47.499716;8.726641
URL:https://eventfrog.at/de/p/theater-buehne/chrissi-sokoll-7451389861771086993.html
END:VEVENT
END:VCALENDAR