BEGIN:VCALENDAR
VERSION:2.0
PRODID:EVENTFROG//EVENT//ICAL
BEGIN:VEVENT
UID:20260425T163335Z-7451389000986678518@eventfrog.at
DTSTAMP:20260425T163335Z
DTSTART:20260508T210000Z
SUMMARY:Steibi Fm: Dj Pattmeister
DESCRIPTION:Steibi Fm: Dj Pattmeister\n\nhttps://eventfrog.at/de/p/partys/steibi-fm-dj-pattmeister-7451389000986678518.html
LOCATION:Albani
GEO:47.498480;8.729190
URL:https://eventfrog.at/de/p/partys/steibi-fm-dj-pattmeister-7451389000986678518.html
END:VEVENT
END:VCALENDAR