BEGIN:VCALENDAR
VERSION:2.0
PRODID:EVENTFROG//EVENT//ICAL
BEGIN:VEVENT
UID:20260422T165622Z-7451385554678080753@eventfrog.at
DTSTAMP:20260422T165622Z
DTSTART:20260426T153000Z
SUMMARY:Barbara Buser – Pionierin der Nachhaltigkeit
DESCRIPTION:Barbara Buser - Pionierin der Nachhaltigkeit\n\nhttps://eventfrog.at/de/p/freizeit-ausfluege/barbara-buser-pionierin-der-nachhaltigkeit-7451385554678080753.html
LOCATION:Cinema Luna
GEO:47.558329;8.895727
URL:https://eventfrog.at/de/p/freizeit-ausfluege/barbara-buser-pionierin-der-nachhaltigkeit-7451385554678080753.html
END:VEVENT
END:VCALENDAR