BEGIN:VCALENDAR
VERSION:2.0
PRODID:EVENTFROG//EVENT//ICAL
BEGIN:VEVENT
UID:20260419T155417Z-7451384327655422391@eventfrog.at
DTSTAMP:20260419T155417Z
DTSTART:20260524T093000Z
SUMMARY:Die Morgenländer. Jüdische Forscher suchen nach dem Eigenen
DESCRIPTION:Die Morgenländer. Jüdische Forscher suchen nach dem Eigenen im Fremden\n\nhttps://eventfrog.at/de/p/wissenschaft-und-technik/die-morgenlaender-juedische-forscher-suchen-nach-dem-eigenen-7451384327655422391.html
LOCATION:Jüdisches Museum
GEO:47.364721;9.688902
URL:https://eventfrog.at/de/p/wissenschaft-und-technik/die-morgenlaender-juedische-forscher-suchen-nach-dem-eigenen-7451384327655422391.html
END:VEVENT
END:VCALENDAR