BEGIN:VCALENDAR
VERSION:2.0
PRODID:EVENTFROG//EVENT//ICAL
BEGIN:VEVENT
UID:20260424T072701Z-7451342745388465525@eventfrog.at
DTSTAMP:20260424T072701Z
DTSTART:20260502T210000Z
DTEND:20260503T013000Z
SUMMARY:Y2K NIGHT
DESCRIPTION:Die Y2K Night bringt 2000er Hits und starke Vibes für eine unvergessliche Partynacht mit Hip Hop, RnB und Pop.\n\nhttps://eventfrog.at/de/p/partys/00-s/y2k-night-7451342745388465525.html
LOCATION:Loft Club
GEO:46.759087;7.629819
URL:https://eventfrog.at/de/p/partys/00-s/y2k-night-7451342745388465525.html
END:VEVENT
END:VCALENDAR