BEGIN:VCALENDAR
VERSION:2.0
PRODID:EVENTFROG//EVENT//ICAL
BEGIN:VEVENT
UID:20260421T145957Z-7451341345652779372@eventfrog.at
DTSTAMP:20260421T145957Z
DTSTART:20261018T150000Z
DTEND:20261018T173000Z
SUMMARY:Choir for one night
DESCRIPTION:130 Menschen bilden für einen Abend einen Chor und lernen einen einen Popsong unter der professionellen Chorleiterin Alexandra Ziegler-Liebst\n\nhttps://eventfrog.at/de/p/kurse-seminare/musik-tanz/choir-for-one-night-7451341345652779372.html
LOCATION:Aula
GEO:50.136209;8.655108
URL:https://eventfrog.at/de/p/kurse-seminare/musik-tanz/choir-for-one-night-7451341345652779372.html
END:VEVENT
END:VCALENDAR