BEGIN:VCALENDAR
VERSION:2.0
PRODID:EVENTFROG//EVENT//ICAL
BEGIN:VEVENT
UID:20260420T044626Z-7451337564659683794@eventfrog.at
DTSTAMP:20260420T044626Z
DTSTART:20261017T181500Z
DTEND:20261017T200000Z
SUMMARY:Muriel Zemp - Nabelschau
DESCRIPTION:Muriel Zemp begeistert mit intimem Solo, kombiniert Volkslieder und Eigenkompositionen zu scharfsinniger Gesellschaftskritik.\n\nhttps://eventfrog.at/de/p/theater-buehne/theater/muriel-zemp-nabelschau-7451337564659683794.html
LOCATION:Kleintheater Somehuus
GEO:47.172200;8.109910
URL:https://eventfrog.at/de/p/theater-buehne/theater/muriel-zemp-nabelschau-7451337564659683794.html
END:VEVENT
END:VCALENDAR