BEGIN:VCALENDAR
VERSION:2.0
PRODID:EVENTFROG//EVENT//ICAL
BEGIN:VEVENT
UID:20260421T173031Z-7451312159621964836@eventfrog.at
DTSTAMP:20260421T173031Z
DTSTART:20260502T083000Z
DTEND:20260502T140000Z
SUMMARY:African Street Games
DESCRIPTION:Afrikanische Spiele und Workshops verbinden Generationen im Humboldt Forum mit Tanz, Rennen und Gemeinschaft.\n\nhttps://eventfrog.at/de/p/kinderveranstaltungen/familienveranstaltungen/african-street-games-7451312159621964836.html
LOCATION:Humboldt Forum
GEO:52.517275;13.401640
URL:https://eventfrog.at/de/p/kinderveranstaltungen/familienveranstaltungen/african-street-games-7451312159621964836.html
END:VEVENT
END:VCALENDAR