BEGIN:VCALENDAR
VERSION:2.0
PRODID:EVENTFROG//EVENT//ICAL
BEGIN:VEVENT
UID:20260425T110238Z-7451262741887617112@eventfrog.at
DTSTAMP:20260425T110238Z
DTSTART:20260523T183000Z
DTEND:20260523T203000Z
SUMMARY:Ü40 Comedy Show in English
DESCRIPTION:A comedy show by people over 40, sharing real-life stories and humour about life after 40 without any filters.\n\nhttps://eventfrog.at/en/p/theatre-stage/comedy-cabaret/ue40-comedy-show-in-english-7451262741887617112.html
LOCATION:The Beast Basel Comedy Club
GEO:47.556046;7.589448
URL:https://eventfrog.at/en/p/theatre-stage/comedy-cabaret/ue40-comedy-show-in-english-7451262741887617112.html
END:VEVENT
END:VCALENDAR