BEGIN:VCALENDAR
VERSION:2.0
PRODID:EVENTFROG//EVENT//ICAL
BEGIN:VEVENT
UID:20260422T103702Z-7451255256514599278@eventfrog.at
DTSTAMP:20260422T103702Z
DTSTART:20260519T161500Z
DTEND:20260519T190000Z
SUMMARY:Krisenmanagement neu fokussiert: Expert:innen berichten
DESCRIPTION:Fortbildung und Networking: Topexpert:innen aus dem In- und Ausland berichten über ihre Erfahrungen aus realen Ereignis- und Krisenlagen.\n\nhttps://eventfrog.at/en/p/courses-seminars/business/krisenmanagement-neu-fokussiert-expert-innen-berichten-7451255256514599278.html
LOCATION:online event
URL:https://eventfrog.at/en/p/courses-seminars/business/krisenmanagement-neu-fokussiert-expert-innen-berichten-7451255256514599278.html
END:VEVENT
END:VCALENDAR