BEGIN:VCALENDAR
VERSION:2.0
PRODID:EVENTFROG//EVENT//ICAL
BEGIN:VEVENT
UID:20260422T221634Z-7451228247755369332@eventfrog.at
DTSTAMP:20260422T221634Z
DTSTART:20260627T140000Z
DTEND:20260627T170000Z
SUMMARY:Eat the Film - Charlie und die Schokoladenfabrik
DESCRIPTION:Zu« Charlie und die Schokoladenfabrik »geniesst du ein Menü, das perfekt zu den Filmszenen passt und das Kinoerlebnis vertieft.\n\nhttps://eventfrog.at/de/p/essen-trinken/eat-the-film-charlie-und-die-schokoladenfabrik-7451228247755369332.html
LOCATION:Pishi
GEO:47.344570;7.918516
URL:https://eventfrog.at/de/p/essen-trinken/eat-the-film-charlie-und-die-schokoladenfabrik-7451228247755369332.html
END:VEVENT
END:VCALENDAR