BEGIN:VCALENDAR
VERSION:2.0
PRODID:EVENTFROG//EVENT//ICAL
BEGIN:VEVENT
UID:20260422T191833Z-7451221272325801900@eventfrog.at
DTSTAMP:20260422T191833Z
DTSTART:20260619T170000Z
DTEND:20260619T190000Z
SUMMARY:LOK Garten mit FLIEDER
DESCRIPTION:Freitage im Juni und August 2026 gibt es im LOK Garten Jever kostenlose Konzerte mit Bands aus Region, Deutschland und international.\n\nhttps://eventfrog.at/de/p/konzerte/pop-rock/lok-garten-mit-flieder-7451221272325801900.html
LOCATION:LOK Kulturzentrum Jever
GEO:53.567752;7.895716
URL:https://eventfrog.at/de/p/konzerte/pop-rock/lok-garten-mit-flieder-7451221272325801900.html
END:VEVENT
END:VCALENDAR