BEGIN:VCALENDAR
VERSION:2.0
PRODID:EVENTFROG//EVENT//ICAL
BEGIN:VEVENT
UID:20260422T220536Z-7451217797902803172@eventfrog.at
DTSTAMP:20260422T220536Z
DTSTART:20260711T130000Z
DTEND:20260711T160000Z
SUMMARY:Malen ohne Plan - Malworkshop
DESCRIPTION:Vlugie führt am 13.06. und 11.07. von 15-18 Uhr einen Mal-Kurs durch, der freies, spontanes Malen ohne Planung ermöglicht.\n\nhttps://eventfrog.at/de/p/kurse-seminare/kunst-kultur/malen-ohne-plan-malworkshop-7451217797902803172.html
LOCATION:LOK Kulturzentrum Jever
GEO:53.567752;7.895716
URL:https://eventfrog.at/de/p/kurse-seminare/kunst-kultur/malen-ohne-plan-malworkshop-7451217797902803172.html
END:VEVENT
END:VCALENDAR