BEGIN:VCALENDAR
VERSION:2.0
PRODID:EVENTFROG//EVENT//ICAL
BEGIN:VEVENT
UID:20260421T183656Z-7451198909966202623@eventfrog.at
DTSTAMP:20260421T183656Z
DTSTART:20260704T083000Z
DTEND:20260704T153000Z
SUMMARY:Aquarell Workshop
DESCRIPTION:Lerne entspannt das Aquarellieren mit Grundfarben und male zwei Werke, die du mit nach Hause nimmst. Vorkenntnisse nicht nötig.\n\nhttps://eventfrog.at/de/p/kurse-seminare/kunst-kultur/aquarell-workshop-7451198909966202623.html
LOCATION:Aquarelle auf Wunsch
GEO:50.221787;9.345371
URL:https://eventfrog.at/de/p/kurse-seminare/kunst-kultur/aquarell-workshop-7451198909966202623.html
END:VEVENT
END:VCALENDAR