BEGIN:VCALENDAR
VERSION:2.0
PRODID:EVENTFROG//EVENT//ICAL
BEGIN:VEVENT
UID:20260422T100904Z-7451192135229961011@eventfrog.at
DTSTAMP:20260422T100904Z
DTSTART:20260822T200000Z
SUMMARY:CinéGurz - 22.08.2026 - Marnie (E/df)
DESCRIPTION:Der Film «Marnie» läuft am 22.8. ab 22:00 Uhr in Englisch mit dt. & frz. Untertiteln, Barbetrieb ab 21 Uhr.\n\nhttps://eventfrog.at/de/p/freizeit-ausfluege/film-kino/cinegurz-22-08-2026-marnie-e-df-7451192135229961011.html
LOCATION:CinéGurz
GEO:47.145779;7.260895
URL:https://eventfrog.at/de/p/freizeit-ausfluege/film-kino/cinegurz-22-08-2026-marnie-e-df-7451192135229961011.html
END:VEVENT
END:VCALENDAR