BEGIN:VCALENDAR
VERSION:2.0
PRODID:EVENTFROG//EVENT//ICAL
BEGIN:VEVENT
UID:20260425T191639Z-7451029337875203306@eventfrog.at
DTSTAMP:20260425T191639Z
DTSTART:20260523T200000Z
SUMMARY:yara
DESCRIPTION:yara\n\nhttps://eventfrog.at/de/p/konzerte/yara-7451029337875203306.html
LOCATION:Konstanz Konzertmuschel
GEO:47.662669;9.179241
URL:https://eventfrog.at/de/p/konzerte/yara-7451029337875203306.html
END:VEVENT
END:VCALENDAR