BEGIN:VCALENDAR
VERSION:2.0
PRODID:EVENTFROG//EVENT//ICAL
BEGIN:VEVENT
UID:20260425T191640Z-7451029337527076032@eventfrog.at
DTSTAMP:20260425T191640Z
DTSTART:20260523T171500Z
SUMMARY:2 Silent
DESCRIPTION:2 Silent\n\nhttps://eventfrog.at/de/p/konzerte/2-silent-7451029337527076032.html
LOCATION:Konstanz Konzertmuschel
GEO:47.662669;9.179241
URL:https://eventfrog.at/de/p/konzerte/2-silent-7451029337527076032.html
END:VEVENT
END:VCALENDAR