BEGIN:VCALENDAR
VERSION:2.0
PRODID:EVENTFROG//EVENT//ICAL
BEGIN:VEVENT
UID:20260420T191352Z-7451029336650466408@eventfrog.at
DTSTAMP:20260420T191352Z
DTSTART:20260912T120000Z
DTEND:20260912T133000Z
SUMMARY:Öffentliche Stadtführungen Diessenhofen
DESCRIPTION:Öffentliche Stadtführungen Diessenhofen\n\nhttps://eventfrog.at/de/p/wissenschaft-und-technik/oeffentliche-stadtfuehrungen-diessenhofen-7451029336650466408.html
LOCATION:Diessenhofen
GEO:47.685735;8.758211
URL:https://eventfrog.at/de/p/wissenschaft-und-technik/oeffentliche-stadtfuehrungen-diessenhofen-7451029336650466408.html
END:VEVENT
END:VCALENDAR