BEGIN:VCALENDAR
VERSION:2.0
PRODID:EVENTFROG//EVENT//ICAL
BEGIN:VEVENT
UID:20260423T051218Z-7451029334708503632@eventfrog.at
DTSTAMP:20260423T051218Z
DTSTART:20260503T123000Z
SUMMARY:Circus Knie 2026
DESCRIPTION:Circus Knie 2026\n\nhttps://eventfrog.at/de/p/theater-buehne/circus-knie-2026-7451029334708503632.html
LOCATION:Spelteriniplatz
GEO:47.428844;9.380342
URL:https://eventfrog.at/de/p/theater-buehne/circus-knie-2026-7451029334708503632.html
END:VEVENT
END:VCALENDAR