BEGIN:VCALENDAR
VERSION:2.0
PRODID:EVENTFROG//EVENT//ICAL
BEGIN:VEVENT
UID:20260424T062244Z-7451027220166926312@eventfrog.at
DTSTAMP:20260424T062244Z
DTSTART:20260501T170000Z
DTEND:20260501T203000Z
SUMMARY:Start in die zehnte und letzte Saison der Vollmondbar im See
DESCRIPTION:Start in die zehnte und letzte Saison der Vollmondbar im Seemuseum\n\nhttps://eventfrog.at/de/p/partys/start-in-die-zehnte-und-letzte-saison-der-vollmondbar-im-see-7451027220166926312.html
LOCATION:Seemuseum
GEO:47.648780;9.189331
URL:https://eventfrog.at/de/p/partys/start-in-die-zehnte-und-letzte-saison-der-vollmondbar-im-see-7451027220166926312.html
END:VEVENT
END:VCALENDAR