BEGIN:VCALENDAR
VERSION:2.0
PRODID:EVENTFROG//EVENT//ICAL
BEGIN:VEVENT
UID:20260424T071158Z-7451025767092197563@eventfrog.at
DTSTAMP:20260424T071158Z
DTSTART:20260506T180000Z
DTEND:20260506T200000Z
SUMMARY:Ansa Sauermann & Band
DESCRIPTION:Kantiger und glamouröser Indie-Pop-Rock aus Deutschland auf «Gehts Noch» - Tour. Einziges Konzert im Raum Bern.\n\nhttps://eventfrog.at/de/p/konzerte/pop-rock/ansa-sauermann-band-7451025767092197563.html
LOCATION:Bären Buchsi
GEO:47.021500;7.450800
URL:https://eventfrog.at/de/p/konzerte/pop-rock/ansa-sauermann-band-7451025767092197563.html
END:VEVENT
END:VCALENDAR